Workbook
Name ContraIndications: DIDO!#REF!
Name Credientials: DIDO!#REF!

Sheet DIDO
A1: Help with FAQ
D2: PSC - DIDO FORM
A3: Hospital Identifier | B3: Quarter Format: Q-YY e.g., 1-20 | C3: Date | D3: Patient ID # | E3: Known Time of Stroke Onset | F3: Last Seen Normal (Military Time) | G3: Time Symptoms Noted (Military Time) | H3: Arrival Time at Door (Military Time) | I3: Mode of Arrival | J3: NIHSS Total Score | K3: Decision Time (Transfer) (Military Time) | L3: Transfer Request Time (Military Time) | M3: Acceptance Time (Military Time) | N3: EMS on Scene Time for Transfer (Military Time) (Remediation Only) | O3: Transfer Time (Military Time) | P3: Reason for Transfer Delay | Q3: Details (Optional) | R3: Unique Hospital Patient ID | S3: Door to Transfer Decision in hours & minutes | T3: Transfer Decision to Transfer Request in hours & minutes | U3: Transfer Request to Acceptance Time | V3: Acceptance Time to EMS on Scene Time | W3: EMS on Scene Time to Transfer | X3: Acceptance Time to Transfer | Y3: Door In Door Out | Z3: Door to Transfer Request | AA3: Transfer Request to Door Out
B5: 3-26 | D5: =$A5&"-"&$B5&"-"&TEXT(ROWS(D$5:D5),"000") -> -3-26-001 | R5: =IF(D5="","",CONCATENATE(C5,"-",A5,"-",D5)) -> ---3-26-001 | S5: =IF(OR(ISBLANK(H5),ISBLANK(K5)),"",(IF(K5<$H5,(K5-$H5)+24,(K5-$H5)))) | T5: =IF(OR(ISBLANK(K5),ISBLANK(L5)),"",(IF(L5<$K5,(L5-$K5)+24,(L5-$K5)))) | U5: =IF(OR(ISBLANK(L5),ISBLANK(M5)),"",(IF(M5<$L5,(M5-$L5)+24,(M5-$L5)))) | V5: =IF(OR(ISBLANK(M5),ISBLANK(N5)),"",(IF(N5<$M5,(N5-$M5)+24,(N5-$M5)))) | W5: =IF(OR(ISBLANK(N5),ISBLANK(O5)),"",(IF(O5<$N5,(O5-$N5)+24,(O5-$N5)))) | X5: =IF(OR(ISBLANK(O5),ISBLANK(M5)),"",(IF(O5<$M5,(O5-$M5)+24,(O5-$M5)))) | Y5: =IF(OR(ISBLANK(O5),ISBLANK(H5)),"",(IF(O5<$H5,(O5-$H5)+24,(O5-$H5)))) | Z5: =IF(OR(ISBLANK(H5),ISBLANK(L5)),"",(IF(L5<$H5,(L5-$H5)+24,(L5-$H5)))) | AA5: =IF(OR(ISBLANK(L5),ISBLANK(O5)),"",(IF(O5<$L5,(O5-$L5)+24,(O5-$L5))))
A6: =+$A$5 -> 0 | B6: =+$B$5 -> 3-26 | D6: =$A6&"-"&$B6&"-"&TEXT(ROWS(D$5:D6),"000") -> 0-3-26-002 | R6: =IF(D6="","",CONCATENATE(C6,"-",A6,"-",D6)) -> -0-0-3-26-002 | S6: =IF(OR(ISBLANK(H6),ISBLANK(K6)),"",(IF(K6<$H6,(K6-$H6)+24,(K6-$H6)))) | T6: =IF(OR(ISBLANK(K6),ISBLANK(L6)),"",(IF(L6<$K6,(L6-$K6)+24,(L6-$K6)))) | U6: =IF(OR(ISBLANK(L6),ISBLANK(M6)),"",(IF(M6<$L6,(M6-$L6)+24,(M6-$L6)))) | V6: =IF(OR(ISBLANK(M6),ISBLANK(N6)),"",(IF(N6<$M6,(N6-$M6)+24,(N6-$M6)))) | W6: =IF(OR(ISBLANK(N6),ISBLANK(O6)),"",(IF(O6<$N6,(O6-$N6)+24,(O6-$N6)))) | X6: =IF(OR(ISBLANK(O6),ISBLANK(M6)),"",(IF(O6<$M6,(O6-$M6)+24,(O6-$M6)))) | Y6: =IF(OR(ISBLANK(O6),ISBLANK(H6)),"",(IF(O6<$H6,(O6-$H6)+24,(O6-$H6)))) | Z6: =IF(OR(ISBLANK(H6),ISBLANK(L6)),"",(IF(L6<$H6,(L6-$H6)+24,(L6-$H6)))) | AA6: =IF(OR(ISBLANK(L6),ISBLANK(O6)),"",(IF(O6<$L6,(O6-$L6)+24,(O6-$L6))))
A7: =+$A$5 -> 0 | B7: =+$B$5 -> 3-26 | D7: =$A7&"-"&$B7&"-"&TEXT(ROWS(D$5:D7),"000") -> 0-3-26-003 | R7: =IF(D7="","",CONCATENATE(C7,"-",A7,"-",D7)) -> -0-0-3-26-003 | S7: =IF(OR(ISBLANK(H7),ISBLANK(K7)),"",(IF(K7<$H7,(K7-$H7)+24,(K7-$H7)))) | T7: =IF(OR(ISBLANK(K7),ISBLANK(L7)),"",(IF(L7<$K7,(L7-$K7)+24,(L7-$K7)))) | U7: =IF(OR(ISBLANK(L7),ISBLANK(M7)),"",(IF(M7<$L7,(M7-$L7)+24,(M7-$L7)))) | V7: =IF(OR(ISBLANK(M7),ISBLANK(N7)),"",(IF(N7<$M7,(N7-$M7)+24,(N7-$M7)))) | W7: =IF(OR(ISBLANK(N7),ISBLANK(O7)),"",(IF(O7<$N7,(O7-$N7)+24,(O7-$N7)))) | X7: =IF(OR(ISBLANK(O7),ISBLANK(M7)),"",(IF(O7<$M7,(O7-$M7)+24,(O7-$M7)))) | Y7: =IF(OR(ISBLANK(O7),ISBLANK(H7)),"",(IF(O7<$H7,(O7-$H7)+24,(O7-$H7)))) | Z7: =IF(OR(ISBLANK(H7),ISBLANK(L7)),"",(IF(L7<$H7,(L7-$H7)+24,(L7-$H7)))) | AA7: =IF(OR(ISBLANK(L7),ISBLANK(O7)),"",(IF(O7<$L7,(O7-$L7)+24,(O7-$L7))))
A8: =+$A$5 -> 0 | B8: =+$B$5 -> 3-26 | D8: =$A8&"-"&$B8&"-"&TEXT(ROWS(D$5:D8),"000") -> 0-3-26-004 | R8: =IF(D8="","",CONCATENATE(C8,"-",A8,"-",D8)) -> -0-0-3-26-004 | S8: =IF(OR(ISBLANK(H8),ISBLANK(K8)),"",(IF(K8<$H8,(K8-$H8)+24,(K8-$H8)))) | T8: =IF(OR(ISBLANK(K8),ISBLANK(L8)),"",(IF(L8<$K8,(L8-$K8)+24,(L8-$K8)))) | U8: =IF(OR(ISBLANK(L8),ISBLANK(M8)),"",(IF(M8<$L8,(M8-$L8)+24,(M8-$L8)))) | V8: =IF(OR(ISBLANK(M8),ISBLANK(N8)),"",(IF(N8<$M8,(N8-$M8)+24,(N8-$M8)))) | W8: =IF(OR(ISBLANK(N8),ISBLANK(O8)),"",(IF(O8<$N8,(O8-$N8)+24,(O8-$N8)))) | X8: =IF(OR(ISBLANK(O8),ISBLANK(M8)),"",(IF(O8<$M8,(O8-$M8)+24,(O8-$M8)))) | Y8: =IF(OR(ISBLANK(O8),ISBLANK(H8)),"",(IF(O8<$H8,(O8-$H8)+24,(O8-$H8)))) | Z8: =IF(OR(ISBLANK(H8),ISBLANK(L8)),"",(IF(L8<$H8,(L8-$H8)+24,(L8-$H8)))) | AA8: =IF(OR(ISBLANK(L8),ISBLANK(O8)),"",(IF(O8<$L8,(O8-$L8)+24,(O8-$L8))))
A9: =+$A$5 -> 0 | B9: =+$B$5 -> 3-26 | D9: =$A9&"-"&$B9&"-"&TEXT(ROWS(D$5:D9),"000") -> 0-3-26-005 | R9: =IF(D9="","",CONCATENATE(C9,"-",A9,"-",D9)) -> -0-0-3-26-005 | S9: =IF(OR(ISBLANK(H9),ISBLANK(K9)),"",(IF(K9<$H9,(K9-$H9)+24,(K9-$H9)))) | T9: =IF(OR(ISBLANK(K9),ISBLANK(L9)),"",(IF(L9<$K9,(L9-$K9)+24,(L9-$K9)))) | U9: =IF(OR(ISBLANK(L9),ISBLANK(M9)),"",(IF(M9<$L9,(M9-$L9)+24,(M9-$L9)))) | V9: =IF(OR(ISBLANK(M9),ISBLANK(N9)),"",(IF(N9<$M9,(N9-$M9)+24,(N9-$M9)))) | W9: =IF(OR(ISBLANK(N9),ISBLANK(O9)),"",(IF(O9<$N9,(O9-$N9)+24,(O9-$N9)))) | X9: =IF(OR(ISBLANK(O9),ISBLANK(M9)),"",(IF(O9<$M9,(O9-$M9)+24,(O9-$M9)))) | Y9: =IF(OR(ISBLANK(O9),ISBLANK(H9)),"",(IF(O9<$H9,(O9-$H9)+24,(O9-$H9)))) | Z9: =IF(OR(ISBLANK(H9),ISBLANK(L9)),"",(IF(L9<$H9,(L9-$H9)+24,(L9-$H9)))) | AA9: =IF(OR(ISBLANK(L9),ISBLANK(O9)),"",(IF(O9<$L9,(O9-$L9)+24,(O9-$L9))))
A10: =+$A$5 -> 0 | B10: =+$B$5 -> 3-26 | D10: =$A10&"-"&$B10&"-"&TEXT(ROWS(D$5:D10),"000") -> 0-3-26-006 | R10: =IF(D10="","",CONCATENATE(C10,"-",A10,"-",D10)) -> -0-0-3-26-006 | S10: =IF(OR(ISBLANK(H10),ISBLANK(K10)),"",(IF(K10<$H10,(K10-$H10)+24,(K10-$H10)))) | T10: =IF(OR(ISBLANK(K10),ISBLANK(L10)),"",(IF(L10<$K10,(L10-$K10)+24,(L10-$K10)))) | U10: =IF(OR(ISBLANK(L10),ISBLANK(M10)),"",(IF(M10<$L10,(M10-$L10)+24,(M10-$L10)))) | V10: =IF(OR(ISBLANK(M10),ISBLANK(N10)),"",(IF(N10<$M10,(N10-$M10)+24,(N10-$M10)))) | W10: =IF(OR(ISBLANK(N10),ISBLANK(O10)),"",(IF(O10<$N10,(O10-$N10)+24,(O10-$N10)))) | X10: =IF(OR(ISBLANK(O10),ISBLANK(M10)),"",(IF(O10<$M10,(O10-$M10)+24,(O10-$M10)))) | Y10: =IF(OR(ISBLANK(O10),ISBLANK(H10)),"",(IF(O10<$H10,(O10-$H10)+24,(O10-$H10)))) | Z10: =IF(OR(ISBLANK(H10),ISBLANK(L10)),"",(IF(L10<$H10,(L10-$H10)+24,(L10-$H10)))) | AA10: =IF(OR(ISBLANK(L10),ISBLANK(O10)),"",(IF(O10<$L10,(O10-$L10)+24,(O10-$L10))))
A11: =+$A$5 -> 0 | B11: =+$B$5 -> 3-26 | D11: =$A11&"-"&$B11&"-"&TEXT(ROWS(D$5:D11),"000") -> 0-3-26-007 | R11: =IF(D11="","",CONCATENATE(C11,"-",A11,"-",D11)) -> -0-0-3-26-007 | S11: =IF(OR(ISBLANK(H11),ISBLANK(K11)),"",(IF(K11<$H11,(K11-$H11)+24,(K11-$H11)))) | T11: =IF(OR(ISBLANK(K11),ISBLANK(L11)),"",(IF(L11<$K11,(L11-$K11)+24,(L11-$K11)))) | U11: =IF(OR(ISBLANK(L11),ISBLANK(M11)),"",(IF(M11<$L11,(M11-$L11)+24,(M11-$L11)))) | V11: =IF(OR(ISBLANK(M11),ISBLANK(N11)),"",(IF(N11<$M11,(N11-$M11)+24,(N11-$M11)))) | W11: =IF(OR(ISBLANK(N11),ISBLANK(O11)),"",(IF(O11<$N11,(O11-$N11)+24,(O11-$N11)))) | X11: =IF(OR(ISBLANK(O11),ISBLANK(M11)),"",(IF(O11<$M11,(O11-$M11)+24,(O11-$M11)))) | Y11: =IF(OR(ISBLANK(O11),ISBLANK(H11)),"",(IF(O11<$H11,(O11-$H11)+24,(O11-$H11)))) | Z11: =IF(OR(ISBLANK(H11),ISBLANK(L11)),"",(IF(L11<$H11,(L11-$H11)+24,(L11-$H11)))) | AA11: =IF(OR(ISBLANK(L11),ISBLANK(O11)),"",(IF(O11<$L11,(O11-$L11)+24,(O11-$L11))))
A12: =+$A$5 -> 0 | B12: =+$B$5 -> 3-26 | D12: =$A12&"-"&$B12&"-"&TEXT(ROWS(D$5:D12),"000") -> 0-3-26-008 | R12: =IF(D12="","",CONCATENATE(C12,"-",A12,"-",D12)) -> -0-0-3-26-008 | S12: =IF(OR(ISBLANK(H12),ISBLANK(K12)),"",(IF(K12<$H12,(K12-$H12)+24,(K12-$H12)))) | T12: =IF(OR(ISBLANK(K12),ISBLANK(L12)),"",(IF(L12<$K12,(L12-$K12)+24,(L12-$K12)))) | U12: =IF(OR(ISBLANK(L12),ISBLANK(M12)),"",(IF(M12<$L12,(M12-$L12)+24,(M12-$L12)))) | V12: =IF(OR(ISBLANK(M12),ISBLANK(N12)),"",(IF(N12<$M12,(N12-$M12)+24,(N12-$M12)))) | W12: =IF(OR(ISBLANK(N12),ISBLANK(O12)),"",(IF(O12<$N12,(O12-$N12)+24,(O12-$N12)))) | X12: =IF(OR(ISBLANK(O12),ISBLANK(M12)),"",(IF(O12<$M12,(O12-$M12)+24,(O12-$M12)))) | Y12: =IF(OR(ISBLANK(O12),ISBLANK(H12)),"",(IF(O12<$H12,(O12-$H12)+24,(O12-$H12)))) | Z12: =IF(OR(ISBLANK(H12),ISBLANK(L12)),"",(IF(L12<$H12,(L12-$H12)+24,(L12-$H12)))) | AA12: =IF(OR(ISBLANK(L12),ISBLANK(O12)),"",(IF(O12<$L12,(O12-$L12)+24,(O12-$L12))))
A13: =+$A$5 -> 0 | B13: =+$B$5 -> 3-26 | D13: =$A13&"-"&$B13&"-"&TEXT(ROWS(D$5:D13),"000") -> 0-3-26-009 | R13: =IF(D13="","",CONCATENATE(C13,"-",A13,"-",D13)) -> -0-0-3-26-009 | S13: =IF(OR(ISBLANK(H13),ISBLANK(K13)),"",(IF(K13<$H13,(K13-$H13)+24,(K13-$H13)))) | T13: =IF(OR(ISBLANK(K13),ISBLANK(L13)),"",(IF(L13<$K13,(L13-$K13)+24,(L13-$K13)))) | U13: =IF(OR(ISBLANK(L13),ISBLANK(M13)),"",(IF(M13<$L13,(M13-$L13)+24,(M13-$L13)))) | V13: =IF(OR(ISBLANK(M13),ISBLANK(N13)),"",(IF(N13<$M13,(N13-$M13)+24,(N13-$M13)))) | W13: =IF(OR(ISBLANK(N13),ISBLANK(O13)),"",(IF(O13<$N13,(O13-$N13)+24,(O13-$N13)))) | X13: =IF(OR(ISBLANK(O13),ISBLANK(M13)),"",(IF(O13<$M13,(O13-$M13)+24,(O13-$M13)))) | Y13: =IF(OR(ISBLANK(O13),ISBLANK(H13)),"",(IF(O13<$H13,(O13-$H13)+24,(O13-$H13)))) | Z13: =IF(OR(ISBLANK(H13),ISBLANK(L13)),"",(IF(L13<$H13,(L13-$H13)+24,(L13-$H13)))) | AA13: =IF(OR(ISBLANK(L13),ISBLANK(O13)),"",(IF(O13<$L13,(O13-$L13)+24,(O13-$L13))))
A14: =+$A$5 -> 0 | B14: =+$B$5 -> 3-26 | D14: =$A14&"-"&$B14&"-"&TEXT(ROWS(D$5:D14),"000") -> 0-3-26-010 | R14: =IF(D14="","",CONCATENATE(C14,"-",A14,"-",D14)) -> -0-0-3-26-010 | S14: =IF(OR(ISBLANK(H14),ISBLANK(K14)),"",(IF(K14<$H14,(K14-$H14)+24,(K14-$H14)))) | T14: =IF(OR(ISBLANK(K14),ISBLANK(L14)),"",(IF(L14<$K14,(L14-$K14)+24,(L14-$K14)))) | U14: =IF(OR(ISBLANK(L14),ISBLANK(M14)),"",(IF(M14<$L14,(M14-$L14)+24,(M14-$L14)))) | V14: =IF(OR(ISBLANK(M14),ISBLANK(N14)),"",(IF(N14<$M14,(N14-$M14)+24,(N14-$M14)))) | W14: =IF(OR(ISBLANK(N14),ISBLANK(O14)),"",(IF(O14<$N14,(O14-$N14)+24,(O14-$N14)))) | X14: =IF(OR(ISBLANK(O14),ISBLANK(M14)),"",(IF(O14<$M14,(O14-$M14)+24,(O14-$M14)))) | Y14: =IF(OR(ISBLANK(O14),ISBLANK(H14)),"",(IF(O14<$H14,(O14-$H14)+24,(O14-$H14)))) | Z14: =IF(OR(ISBLANK(H14),ISBLANK(L14)),"",(IF(L14<$H14,(L14-$H14)+24,(L14-$H14)))) | AA14: =IF(OR(ISBLANK(L14),ISBLANK(O14)),"",(IF(O14<$L14,(O14-$L14)+24,(O14-$L14))))
A15: =+$A$5 -> 0 | B15: =+$B$5 -> 3-26 | D15: =$A15&"-"&$B15&"-"&TEXT(ROWS(D$5:D15),"000") -> 0-3-26-011 | R15: =IF(D15="","",CONCATENATE(C15,"-",A15,"-",D15)) -> -0-0-3-26-011 | S15: =IF(OR(ISBLANK(H15),ISBLANK(K15)),"",(IF(K15<$H15,(K15-$H15)+24,(K15-$H15)))) | T15: =IF(OR(ISBLANK(K15),ISBLANK(L15)),"",(IF(L15<$K15,(L15-$K15)+24,(L15-$K15)))) | U15: =IF(OR(ISBLANK(L15),ISBLANK(M15)),"",(IF(M15<$L15,(M15-$L15)+24,(M15-$L15)))) | V15: =IF(OR(ISBLANK(M15),ISBLANK(N15)),"",(IF(N15<$M15,(N15-$M15)+24,(N15-$M15)))) | W15: =IF(OR(ISBLANK(N15),ISBLANK(O15)),"",(IF(O15<$N15,(O15-$N15)+24,(O15-$N15)))) | X15: =IF(OR(ISBLANK(O15),ISBLANK(M15)),"",(IF(O15<$M15,(O15-$M15)+24,(O15-$M15)))) | Y15: =IF(OR(ISBLANK(O15),ISBLANK(H15)),"",(IF(O15<$H15,(O15-$H15)+24,(O15-$H15)))) | Z15: =IF(OR(ISBLANK(H15),ISBLANK(L15)),"",(IF(L15<$H15,(L15-$H15)+24,(L15-$H15)))) | AA15: =IF(OR(ISBLANK(L15),ISBLANK(O15)),"",(IF(O15<$L15,(O15-$L15)+24,(O15-$L15))))
A16: =+$A$5 -> 0 | B16: =+$B$5 -> 3-26 | D16: =$A16&"-"&$B16&"-"&TEXT(ROWS(D$5:D16),"000") -> 0-3-26-012 | R16: =IF(D16="","",CONCATENATE(C16,"-",A16,"-",D16)) -> -0-0-3-26-012 | S16: =IF(OR(ISBLANK(H16),ISBLANK(K16)),"",(IF(K16<$H16,(K16-$H16)+24,(K16-$H16)))) | T16: =IF(OR(ISBLANK(K16),ISBLANK(L16)),"",(IF(L16<$K16,(L16-$K16)+24,(L16-$K16)))) | U16: =IF(OR(ISBLANK(L16),ISBLANK(M16)),"",(IF(M16<$L16,(M16-$L16)+24,(M16-$L16)))) | V16: =IF(OR(ISBLANK(M16),ISBLANK(N16)),"",(IF(N16<$M16,(N16-$M16)+24,(N16-$M16)))) | W16: =IF(OR(ISBLANK(N16),ISBLANK(O16)),"",(IF(O16<$N16,(O16-$N16)+24,(O16-$N16)))) | X16: =IF(OR(ISBLANK(O16),ISBLANK(M16)),"",(IF(O16<$M16,(O16-$M16)+24,(O16-$M16)))) | Y16: =IF(OR(ISBLANK(O16),ISBLANK(H16)),"",(IF(O16<$H16,(O16-$H16)+24,(O16-$H16)))) | Z16: =IF(OR(ISBLANK(H16),ISBLANK(L16)),"",(IF(L16<$H16,(L16-$H16)+24,(L16-$H16)))) | AA16: =IF(OR(ISBLANK(L16),ISBLANK(O16)),"",(IF(O16<$L16,(O16-$L16)+24,(O16-$L16))))
A17: =+$A$5 -> 0 | B17: =+$B$5 -> 3-26 | D17: =$A17&"-"&$B17&"-"&TEXT(ROWS(D$5:D17),"000") -> 0-3-26-013 | R17: =IF(D17="","",CONCATENATE(C17,"-",A17,"-",D17)) -> -0-0-3-26-013 | S17: =IF(OR(ISBLANK(H17),ISBLANK(K17)),"",(IF(K17<$H17,(K17-$H17)+24,(K17-$H17)))) | T17: =IF(OR(ISBLANK(K17),ISBLANK(L17)),"",(IF(L17<$K17,(L17-$K17)+24,(L17-$K17)))) | U17: =IF(OR(ISBLANK(L17),ISBLANK(M17)),"",(IF(M17<$L17,(M17-$L17)+24,(M17-$L17)))) | V17: =IF(OR(ISBLANK(M17),ISBLANK(N17)),"",(IF(N17<$M17,(N17-$M17)+24,(N17-$M17)))) | W17: =IF(OR(ISBLANK(N17),ISBLANK(O17)),"",(IF(O17<$N17,(O17-$N17)+24,(O17-$N17)))) | X17: =IF(OR(ISBLANK(O17),ISBLANK(M17)),"",(IF(O17<$M17,(O17-$M17)+24,(O17-$M17)))) | Y17: =IF(OR(ISBLANK(O17),ISBLANK(H17)),"",(IF(O17<$H17,(O17-$H17)+24,(O17-$H17)))) | Z17: =IF(OR(ISBLANK(H17),ISBLANK(L17)),"",(IF(L17<$H17,(L17-$H17)+24,(L17-$H17)))) | AA17: =IF(OR(ISBLANK(L17),ISBLANK(O17)),"",(IF(O17<$L17,(O17-$L17)+24,(O17-$L17))))
... A504: =+$A$5 -> 0 | B504: =+$B$5 -> 3-26 | D504: =$A504&"-"&$B504&"-"&TEXT(ROWS(D$5:D504),"000") -> 0-3-26-500 | R504: =IF(D504="","",CONCATENATE(C504,"-",A504,"-",D504)) -> -0-0-3-26-500 | S504: =IF(OR(ISBLANK(H504),ISBLANK(K504)),"",(IF(K504<$H504,(K504-$H504)+24,(K504-$H504)))) | T504: =IF(OR(ISBLANK(K504),ISBLANK(L504)),"",(IF(L504<$K504,(L504-$K504)+24,(L504-$K504)))) | U504: =IF(OR(ISBLANK(L504),ISBLANK(M504)),"",(IF(M504<$L504,(M504-$L504)+24,(M504-$L504)))) | V504: =IF(OR(ISBLANK(M504),ISBLANK(N504)),"",(IF(N504<$M504,(N504-$M504)+24,(N504-$M504)))) | W504: =IF(OR(ISBLANK(N504),ISBLANK(O504)),"",(IF(O504<$N504,(O504-$N504)+24,(O504-$N504)))) | X504: =IF(OR(ISBLANK(O504),ISBLANK(M504)),"",(IF(O504<$M504,(O504-$M504)+24,(O504-$M504)))) | Y504: =IF(OR(ISBLANK(O504),ISBLANK(H504)),"",(IF(O504<$H504,(O504-$H504)+24,(O504-$H504)))) | Z504: =IF(OR(ISBLANK(H504),ISBLANK(L504)),"",(IF(L504<$H504,(L504-$H504)+24,(L504-$H504)))) | AA504: =IF(OR(ISBLANK(L504),ISBLANK(O504)),"",(IF(O504<$L504,(O504-$L504)+24,(O504-$L504))))

Sheet Unknown TSO
A1: Help with FAQ
D2: Unknown TSO FORM
A3: Hospital Identifier Please only include cases with LSN to Door >4.5hrs or TSN to Door <4.5hrs. | B3: Quarter Format: Q-YY e.g., 1-20 | C3: Date | D3: Patient ID # | E3: Known Time of Stroke Onset | F3: Last Seen Normal (Military Time) | G3: Time Symptoms Noted (Military Time) | H3: Arrival Time at Door (Military Time) | I3: Mode of Arrival | J3: NIHSS Total Score | K3: Reason why advanced imaging not pursued | L3: Imaging Used to Determine Eligibility for IV Lytic | M3: Time Imaging for Unknown Stroke Onset Completed (Military Time) | N3: Time of IV Lytic Administration (Military Time) | O3: Reason why patient not treated with IV lytic after advanced imaging | P3: Door to Imaging | Q3: Door to Needle | R3: LSN to Door | S3: TSN to Door
B5: 3-26 | D5: =$A5&"-"&$B5&"-"&TEXT(ROWS(D$5:D5),"000") -> -3-26-001 | P5: =IF(OR(ISBLANK(H5),ISBLANK(M5)),"",(IF(M5<$H5,(M5-$H5)+24,(M5-$H5)))) | Q5: =IF(OR(ISBLANK(H5),ISBLANK(N5)),"",(IF(N5<$H5,(N5-$H5)+24,(N5-$H5)))) | R5: =IF(OR(ISBLANK(F5),ISBLANK(H5)),"",(IF(H5<$F5,(H5-$F5)+24,(H5-$F5)))) | S5: =IF(OR(ISBLANK(G5),ISBLANK(H5)),"",(IF(H5<$G5,(H5-$G5)+24,(H5-$G5))))
A6: =+$A$5 -> 0 | B6: =+$B$5 -> 3-26 | D6: =$A6&"-"&$B6&"-"&TEXT(ROWS(D$5:D6),"000") -> 0-3-26-002 | P6: =IF(OR(ISBLANK(H6),ISBLANK(M6)),"",(IF(M6<$H6,(M6-$H6)+24,(M6-$H6)))) | Q6: =IF(OR(ISBLANK(H6),ISBLANK(N6)),"",(IF(N6<$H6,(N6-$H6)+24,(N6-$H6)))) | R6: =IF(OR(ISBLANK(F6),ISBLANK(H6)),"",(IF(H6<$F6,(H6-$F6)+24,(H6-$F6)))) | S6: =IF(OR(ISBLANK(G6),ISBLANK(H6)),"",(IF(H6<$G6,(H6-$G6)+24,(H6-$G6))))
A7: =+$A$5 -> 0 | B7: =+$B$5 -> 3-26 | D7: =$A7&"-"&$B7&"-"&TEXT(ROWS(D$5:D7),"000") -> 0-3-26-003 | P7: =IF(OR(ISBLANK(H7),ISBLANK(M7)),"",(IF(M7<$H7,(M7-$H7)+24,(M7-$H7)))) | Q7: =IF(OR(ISBLANK(H7),ISBLANK(N7)),"",(IF(N7<$H7,(N7-$H7)+24,(N7-$H7)))) | R7: =IF(OR(ISBLANK(F7),ISBLANK(H7)),"",(IF(H7<$F7,(H7-$F7)+24,(H7-$F7)))) | S7: =IF(OR(ISBLANK(G7),ISBLANK(H7)),"",(IF(H7<$G7,(H7-$G7)+24,(H7-$G7))))
A8: =+$A$5 -> 0 | B8: =+$B$5 -> 3-26 | D8: =$A8&"-"&$B8&"-"&TEXT(ROWS(D$5:D8),"000") -> 0-3-26-004 | P8: =IF(OR(ISBLANK(H8),ISBLANK(M8)),"",(IF(M8<$H8,(M8-$H8)+24,(M8-$H8)))) | Q8: =IF(OR(ISBLANK(H8),ISBLANK(N8)),"",(IF(N8<$H8,(N8-$H8)+24,(N8-$H8)))) | R8: =IF(OR(ISBLANK(F8),ISBLANK(H8)),"",(IF(H8<$F8,(H8-$F8)+24,(H8-$F8)))) | S8: =IF(OR(ISBLANK(G8),ISBLANK(H8)),"",(IF(H8<$G8,(H8-$G8)+24,(H8-$G8))))
A9: =+$A$5 -> 0 | B9: =+$B$5 -> 3-26 | D9: =$A9&"-"&$B9&"-"&TEXT(ROWS(D$5:D9),"000") -> 0-3-26-005 | P9: =IF(OR(ISBLANK(H9),ISBLANK(M9)),"",(IF(M9<$H9,(M9-$H9)+24,(M9-$H9)))) | Q9: =IF(OR(ISBLANK(H9),ISBLANK(N9)),"",(IF(N9<$H9,(N9-$H9)+24,(N9-$H9)))) | R9: =IF(OR(ISBLANK(F9),ISBLANK(H9)),"",(IF(H9<$F9,(H9-$F9)+24,(H9-$F9)))) | S9: =IF(OR(ISBLANK(G9),ISBLANK(H9)),"",(IF(H9<$G9,(H9-$G9)+24,(H9-$G9))))
A10: =+$A$5 -> 0 | B10: =+$B$5 -> 3-26 | D10: =$A10&"-"&$B10&"-"&TEXT(ROWS(D$5:D10),"000") -> 0-3-26-006 | P10: =IF(OR(ISBLANK(H10),ISBLANK(M10)),"",(IF(M10<$H10,(M10-$H10)+24,(M10-$H10)))) | Q10: =IF(OR(ISBLANK(H10),ISBLANK(N10)),"",(IF(N10<$H10,(N10-$H10)+24,(N10-$H10)))) | R10: =IF(OR(ISBLANK(F10),ISBLANK(H10)),"",(IF(H10<$F10,(H10-$F10)+24,(H10-$F10)))) | S10: =IF(OR(ISBLANK(G10),ISBLANK(H10)),"",(IF(H10<$G10,(H10-$G10)+24,(H10-$G10))))
A11: =+$A$5 -> 0 | B11: =+$B$5 -> 3-26 | D11: =$A11&"-"&$B11&"-"&TEXT(ROWS(D$5:D11),"000") -> 0-3-26-007 | P11: =IF(OR(ISBLANK(H11),ISBLANK(M11)),"",(IF(M11<$H11,(M11-$H11)+24,(M11-$H11)))) | Q11: =IF(OR(ISBLANK(H11),ISBLANK(N11)),"",(IF(N11<$H11,(N11-$H11)+24,(N11-$H11)))) | R11: =IF(OR(ISBLANK(F11),ISBLANK(H11)),"",(IF(H11<$F11,(H11-$F11)+24,(H11-$F11)))) | S11: =IF(OR(ISBLANK(G11),ISBLANK(H11)),"",(IF(H11<$G11,(H11-$G11)+24,(H11-$G11))))
A12: =+$A$5 -> 0 | B12: =+$B$5 -> 3-26 | D12: =$A12&"-"&$B12&"-"&TEXT(ROWS(D$5:D12),"000") -> 0-3-26-008 | P12: =IF(OR(ISBLANK(H12),ISBLANK(M12)),"",(IF(M12<$H12,(M12-$H12)+24,(M12-$H12)))) | Q12: =IF(OR(ISBLANK(H12),ISBLANK(N12)),"",(IF(N12<$H12,(N12-$H12)+24,(N12-$H12)))) | R12: =IF(OR(ISBLANK(F12),ISBLANK(H12)),"",(IF(H12<$F12,(H12-$F12)+24,(H12-$F12)))) | S12: =IF(OR(ISBLANK(G12),ISBLANK(H12)),"",(IF(H12<$G12,(H12-$G12)+24,(H12-$G12))))
A13: =+$A$5 -> 0 | B13: =+$B$5 -> 3-26 | D13: =$A13&"-"&$B13&"-"&TEXT(ROWS(D$5:D13),"000") -> 0-3-26-009 | P13: =IF(OR(ISBLANK(H13),ISBLANK(M13)),"",(IF(M13<$H13,(M13-$H13)+24,(M13-$H13)))) | Q13: =IF(OR(ISBLANK(H13),ISBLANK(N13)),"",(IF(N13<$H13,(N13-$H13)+24,(N13-$H13)))) | R13: =IF(OR(ISBLANK(F13),ISBLANK(H13)),"",(IF(H13<$F13,(H13-$F13)+24,(H13-$F13)))) | S13: =IF(OR(ISBLANK(G13),ISBLANK(H13)),"",(IF(H13<$G13,(H13-$G13)+24,(H13-$G13))))
A14: =+$A$5 -> 0 | B14: =+$B$5 -> 3-26 | D14: =$A14&"-"&$B14&"-"&TEXT(ROWS(D$5:D14),"000") -> 0-3-26-010 | P14: =IF(OR(ISBLANK(H14),ISBLANK(M14)),"",(IF(M14<$H14,(M14-$H14)+24,(M14-$H14)))) | Q14: =IF(OR(ISBLANK(H14),ISBLANK(N14)),"",(IF(N14<$H14,(N14-$H14)+24,(N14-$H14)))) | R14: =IF(OR(ISBLANK(F14),ISBLANK(H14)),"",(IF(H14<$F14,(H14-$F14)+24,(H14-$F14)))) | S14: =IF(OR(ISBLANK(G14),ISBLANK(H14)),"",(IF(H14<$G14,(H14-$G14)+24,(H14-$G14))))
A15: =+$A$5 -> 0 | B15: =+$B$5 -> 3-26 | D15: =$A15&"-"&$B15&"-"&TEXT(ROWS(D$5:D15),"000") -> 0-3-26-011 | P15: =IF(OR(ISBLANK(H15),ISBLANK(M15)),"",(IF(M15<$H15,(M15-$H15)+24,(M15-$H15)))) | Q15: =IF(OR(ISBLANK(H15),ISBLANK(N15)),"",(IF(N15<$H15,(N15-$H15)+24,(N15-$H15)))) | R15: =IF(OR(ISBLANK(F15),ISBLANK(H15)),"",(IF(H15<$F15,(H15-$F15)+24,(H15-$F15)))) | S15: =IF(OR(ISBLANK(G15),ISBLANK(H15)),"",(IF(H15<$G15,(H15-$G15)+24,(H15-$G15))))
A16: =+$A$5 -> 0 | B16: =+$B$5 -> 3-26 | D16: =$A16&"-"&$B16&"-"&TEXT(ROWS(D$5:D16),"000") -> 0-3-26-012 | P16: =IF(OR(ISBLANK(H16),ISBLANK(M16)),"",(IF(M16<$H16,(M16-$H16)+24,(M16-$H16)))) | Q16: =IF(OR(ISBLANK(H16),ISBLANK(N16)),"",(IF(N16<$H16,(N16-$H16)+24,(N16-$H16)))) | R16: =IF(OR(ISBLANK(F16),ISBLANK(H16)),"",(IF(H16<$F16,(H16-$F16)+24,(H16-$F16)))) | S16: =IF(OR(ISBLANK(G16),ISBLANK(H16)),"",(IF(H16<$G16,(H16-$G16)+24,(H16-$G16))))
A17: =+$A$5 -> 0 | B17: =+$B$5 -> 3-26 | D17: =$A17&"-"&$B17&"-"&TEXT(ROWS(D$5:D17),"000") -> 0-3-26-013 | P17: =IF(OR(ISBLANK(H17),ISBLANK(M17)),"",(IF(M17<$H17,(M17-$H17)+24,(M17-$H17)))) | Q17: =IF(OR(ISBLANK(H17),ISBLANK(N17)),"",(IF(N17<$H17,(N17-$H17)+24,(N17-$H17)))) | R17: =IF(OR(ISBLANK(F17),ISBLANK(H17)),"",(IF(H17<$F17,(H17-$F17)+24,(H17-$F17)))) | S17: =IF(OR(ISBLANK(G17),ISBLANK(H17)),"",(IF(H17<$G17,(H17-$G17)+24,(H17-$G17))))
... A504: =+$A$5 -> 0 | B504: =+$B$5 -> 3-26 | D504: =$A504&"-"&$B504&"-"&TEXT(ROWS(D$5:D504),"000") -> 0-3-26-500 | P504: =IF(OR(ISBLANK(H504),ISBLANK(M504)),"",(IF(M504<$H504,(M504-$H504)+24,(M504-$H504)))) | Q504: =IF(OR(ISBLANK(H504),ISBLANK(N504)),"",(IF(N504<$H504,(N504-$H504)+24,(N504-$H504)))) | R504: =IF(OR(ISBLANK(F504),ISBLANK(H504)),"",(IF(H504<$F504,(H504-$F504)+24,(H504-$F504)))) | S504: =IF(OR(ISBLANK(G504),ISBLANK(H504)),"",(IF(H504<$G504,(H504-$G504)+24,(H504-$G504))))

Sheet Median Times and Percentages
B2: STROKE DATA POINT MEDIANS AND PERCENTAGES
A3: Hospital Identifier & Quarter | B3: Total Number of Patients | C3: Door to Transfer Decision in hours & minutes | D3: Transfer Decision to Transfer Request in hours & minutes | E3: Transfer Request to Acceptance Time | F3: Acceptance Time to EMS on Scene Time | G3: EMS on Scene Time to Transfer | H3: Acceptance Time to Transfer | I3: Door In Door Out | J3: Door to Transfer Request | K3: Transfer Request to Door Out | L3: Door to Imaging
A4: =CONCATENATE(DIDO!A5,"-",DIDO!B5) -> -3-26 | B4: =COUNT(DIDO!C5:C504) -> 0 | C4: =MEDIAN(DIDO!S5:S504) -> #NUM! | D4: =MEDIAN(DIDO!T5:T504) -> #NUM! | E4: =MEDIAN(DIDO!U5:U504) -> #NUM! | F4: =MEDIAN(DIDO!V5:V504) -> #NUM! | G4: =MEDIAN(DIDO!W5:W504) -> #NUM! | H4: =MEDIAN(DIDO!X5:X504) -> #NUM! | I4: =MEDIAN(DIDO!Y5:Y504) -> #NUM! | J4: =MEDIAN(DIDO!Z5:Z504) -> #NUM! | K4: =MEDIAN(DIDO!AA5:AA504) -> #NUM! | L4: =MEDIAN('Unknown TSO'!P5:P504) -> #NUM!

Sheet FAQ
A1: FREQUENTLY ASKED QUESTIONS
A3: QUESTION | B3: ANSWER/SOLUTION
A4: Why did the Patient ID cell turn red? | B4: Patient ID numbers should be unique to each patient and the number entered has previously been used. Both record IDs should be red. Determine which one to change and assign a unique ID number. | C4: Return to Patient Data
A5: How often must the data be submitted? | B5: Data should be submitted once per quarter For patient info: Submit no later than: Quarter Reported January 1 - March 31 April 30 1-YY (ex 1-15) April 1 - June 30 July 31 2- YY (ex 2-15) July 1 - September 30 October 31 3- YY (ex 3-15)
A6: Does each hospital start collecting the data on a clean form each quarter, or should we continue on the same form? | B6: Each hospital should begin a new form every quarter.
A7: Who do I contact to obtain the unique hospital identifier? | B7: For the unique hospital identifier, contact Deborah Spann (225) 456-3803.
A8: What do I do if I am having difficulty with entry on the spreadsheet? | B8: For problems with the spreadsheet, contact Deborah Spann at (225) 456-3803. For questions regarding the criteria, contact Paige Hargrove at (225) 756-3440.
A9: Why doesn't my hosipital ID show up? | B9: The hospital ID should only be entered in cell A5. It will automatically fill in all after that. If you are trying to enter the hospital ID in any other cell, it will appear blank. Enter the ID in A5 only.
A10: Why did the date cell turn yellow? | B10: There must be a date associated with a patient ID. Either enter the appropriate date or remove the patient data.
A11: Who do I submit the data to and how? | B11: Email the completed excel spreadsheet at the end of each quarter to Justin Schleis at
B12: Justin.Schleis3@La.gov
A13: For the column “Last seen Normal” on the Patient Data page, what to put when you do not know the time? | B13: If the time is unknown, leave the field blank.
A14: My question relates to symptomology vs diagnosis. I abstract for core measures and find often general vague complaints like weakness or headache can lead to a diagnosis of CVA. However, not every patient presenting with these symptoms are fast tracked into the Stroke Protocol. We collect the info on these charts and some meet the Stroke criteria, but what do we do with the others? Should I review and provide data on only Diagnosed Strokes? or do you also want to trend the symptoms and care provided? | B14: Great question. When collecting data, the primary question is "What is the intent of using the data?" LERN's intent is to 1) validate that centers attesting to Level III (Acute Stroke Ready Hospital) status are able to do what is expected and 2) provide process improvement recommendations when areas of weakness are identified. There will always be delayed diagnoses of stroke and stroke mimics. The focus is on patients with stroke rather than stroke mimics. If a patient was registered, went through the process of the stroke code, but was later diagnosed with a stroke mimic, options are to indicate "stroke mimic" or to delete the entry from the spreadsheet. We are looking for all patients who are coded with a stroke diagnosis. For those who presented outside of the window, you would simply register the dummy identifier and times of LSN and arrival to indicate that they were not appropriate stroke codes/activations. Some of your patients will represent delayed diagnoses, and some of these will have presented within the window, but were missed opportunities. I would want there to be a note to indicate "delayed diagnosis". If a pattern or disproportionate number of delayed diagnoses is noted from your center, this would provide an opportunity for additional stroke education (I would come out and give a presentation on commonly missed strokes).
A15: For the column "Last Seen Normal" on the Patient Data page, how should I document when the patient's last seen normal is several hours before ED arrival? | B15: The LERN Stroke Medical Director recommends that you simply document ">3hrs from arrival" for those cases who are out of the window. If, however, the time for LSN is before midnight and the patient presents within 3 hrs, but the time falls into the next day, The LERN Stroke Medical Director will be able to figure this out. For example, LSN 23:00 and patient arrives 00:30 on the next day, the LERN Stroke Medical Director will see the other times documented and understand the corresponding date of LSN.
A16: We had two patients who developed stroke symptoms after arrival to the ED. Both were activated upon symptom onset and received tPA within 60 minutes of symptom onset. Should I include these on the spreadsheet? If so, the “arrival time at door” skews the data as the “door to” times are calculated based on their arrival time rather than symptom onset after arrival. On these two patients, should I put the time of symptom onset as their “arrival time at door”? | B16: These patients should be included. The following instructions should help. LSN is the time (military time) that the patient was last known to be at his or her normal neurological condition. LSN time = the time of onset for: • a person who was awake at onset and can provide his or her own history • a person with witnessed onset. Let’s take an example of a patient who develops symptoms while in the ED or had resolution (TIA) and then recurrence while in the ED… the LSN time would be after the arrival time. A patient had L sided weakness which had resolved before arrival at 23:00 on 02/03/17. The nurse sees the patient normal at 00:30 on 02/04/17. The nurse finds the patient with L sided weakness at 01:00. If the true arrival time was documented, it would be assumed that the patient presented 22 hours after onset of L sided weakness and question administration of tPA. To address this scenario, if LSN is after arrival, change the Arrival Date in Column C and Arrival Time in Column F to = date and time when the patient was LSN. • The Date recorded in Column C should be 02/04/17. • LSN should be 00:30. • Arrival time should be when symptoms were noted (01:00).
A17: I have a question regarding the expanded data variables. I don’t usually fill out the first part of the information if it was > 3.5 hours as per the instructions. So if I have a patient < 24 but > 3.5 hours, do I just fill out the expanded questions? | B17: For patients who present <3.5 hrs from LSN, please submit all variables. For patients who present 3.5-24hrs from LSN, please submit the expanded variables only. I would encourage you to monitor the door-to-ED doc, door-to-neurological expertise, door-to-CT performed, and door-to-CT interpreted for your 3.5-24hrs from LSN VAN positive (or LVO screen positive) patients so that you can evaluate your process delays for patients with prolonged DIDO (door in to door out).
A18: Which patients should be included in the DIDO form? | B18: • All LVO+ patients who present within 24h of LSN, regardless of whether the time of stroke onset is known or not; all columns EXCEPT K-N are required (only new variables for these patients are E and G) • Columns K-N are only for patients who arrive within 3.5 hours of the time symptoms were noted, when LSN was >4.5 hours from arrival, who may get treated with IV lytic; this would include LVO+ patients • Patients who present within 3.5 hrs of time symptoms noted (TSN) have an unknown TSO and need advanced imaging to determine thrombolytic eligibility. Variables required of Certified Centers for new TSO requirements are highlighted in the data dictionary on the LERN Website. The other variables are required for PSCs without 24/7 thrombectomy for patients who present within 24 hrs of LSN AND screen positive for LVO. Ask these questions: 1. Did the patient have a known time of stroke onset? If yes, Columns K-N are not required. If no, move to the next question. 2. Did the patient arrive within 3.5 hours of the time symptoms were noted? If no, Columns K-N are not required. If yes, move to the next question. 3. Was the last seen normal more than 4.5 hours since arrival? If no, the patient is in the window and does not need Columns K-N. If yes, the patient needs Columns K-N. | C18: Door-in-Door-Out-Data-Dictionary
C43: Return to Patient Data

Sheet List
A1: HTN requiring aggressive control w/ IV meds | B1: Mode of Arrival | D1: Reason For Delay | E1: Yes | F1: CT | G1: other standard contraindication (includes completed stroke and ICH on CT) | H1: CTP not favorable, no/small penumbra/salvageable tissue
A2: Further dx evaluation to confirm stroke in pt w/ blood glucose <50, seizures, or major metabolic disorders | B2: Ground Ambulance | D2: Delay in Request Patient Factor | E2: No | F2: CTP | G2: presence of LVO and need for emergent intervention | H2: MRI not favorable, completed stroke (no DWI-FLAIR mismatch)
A3: Timeline evolved | B3: Air Ambulance | D3: Delay in Request Facility Factor | F3: MRI | G3: advanced imaging not available | H3: MRI did not support stroke/stroke mimic
A4: Patient/Family consent | B4: Private Vehicle | D4: Delay in Recognition of LVO | G4: patient not eligible for MRI | H4: patient/family refusal
A5: Difficult IV access | B5: Unknown | D5: Delay in Finding Accepting Center | G5: protocol not pursued with no clear reason
A6: Delayed diagnosis | D6: Delay in Arrival of Inter-Hospital Ambulance | G6: no disabling deficit
A7: Management of concomitant emergent/acute conditions such as cardiopulmonary arrest, resp failure (requiring intubation) | D7: Other
A8: Equipent related delay
A9: Determination of Eligibility
